BEGIN:VCALENDAR
VERSION:2.0
PRODID:-//Studium v zahraničí: Rotary Youth Exchange Czechia - ECPv6.15.17.1//NONSGML v1.0//EN
CALSCALE:GREGORIAN
METHOD:PUBLISH
X-ORIGINAL-URL:https://rye2240.org
X-WR-CALDESC:Akce na Studium v zahraničí: Rotary Youth Exchange Czechia
REFRESH-INTERVAL;VALUE=DURATION:PT1H
X-Robots-Tag:noindex
X-PUBLISHED-TTL:PT1H
BEGIN:VTIMEZONE
TZID:Europe/Prague
BEGIN:DAYLIGHT
TZOFFSETFROM:+0100
TZOFFSETTO:+0200
TZNAME:CEST
DTSTART:20250330T010000
END:DAYLIGHT
BEGIN:STANDARD
TZOFFSETFROM:+0200
TZOFFSETTO:+0100
TZNAME:CET
DTSTART:20251026T010000
END:STANDARD
BEGIN:DAYLIGHT
TZOFFSETFROM:+0100
TZOFFSETTO:+0200
TZNAME:CEST
DTSTART:20260329T010000
END:DAYLIGHT
BEGIN:STANDARD
TZOFFSETFROM:+0200
TZOFFSETTO:+0100
TZNAME:CET
DTSTART:20261025T010000
END:STANDARD
BEGIN:DAYLIGHT
TZOFFSETFROM:+0100
TZOFFSETTO:+0200
TZNAME:CEST
DTSTART:20270328T010000
END:DAYLIGHT
BEGIN:STANDARD
TZOFFSETFROM:+0200
TZOFFSETTO:+0100
TZNAME:CET
DTSTART:20271031T010000
END:STANDARD
END:VTIMEZONE
BEGIN:VEVENT
DTSTART;TZID=Europe/Prague:20260528T170000
DTEND;TZID=Europe/Prague:20260531T100000
DTSTAMP:20260425T052243
CREATED:20250718T182012Z
LAST-MODIFIED:20250731T111742Z
UID:28358-1779987600-1780221600@rye2240.org
SUMMARY:Orientation Meeting IV. pro outboundy + inboundy
DESCRIPTION:r\n					\n						Akce je povinná pro všechny outboundy i inboundy\n						Inboundi přijedou už ve čtvrtek 28.05.\, outboundi o den později\, tedy v pátek 29.05.2026 \n					\n				\n			\n			\n				\n				\n				\n				\n				\n				\n				\n				\n				\n				\n					R\n					\n						Akce je placená Rotary\n						\n					\n				\n			\n			\n				\n				\n				\n				\n			\n				\n				\n				\n				\n				\n				\n				\n				\n				\n				\n				\n					i\n					\n						Předběžný program\n						Pátek – příjezd\, večeře\, předání sak\, jmenovek\, vizitek a placek. Aktuální informace k výměně. \nSobota – celodenní teambuilding\,  večeře\, prezentace outboundů. \nNeděle – odjezd
URL:https://rye2240.org/akce/orientation-meeting-iv-pro-outboundy/
LOCATION:Rekreační středisko DRAK Křižanov\, Křižanov u Velkého Meziříčí\, 594 51\, Česká republika
CATEGORIES:Inboundi,Kluboví YEO,Outboundi,Rotex
ATTACH;FMTTYPE=image/jpeg:https://rye2240.org/wp-content/uploads/2018/08/orientation-meeting-iii.-cesko.jpg
ORGANIZER;CN="Rotary Youth Exchange Czechia%2C z.%C3%BA. + ROTEX":MAILTO:org@rye2240.org
END:VEVENT
END:VCALENDAR