BEGIN:VCALENDAR
VERSION:2.0
PRODID:-//Studium v zahraničí: Rotary Youth Exchange Czechia - ECPv6.15.17.1//NONSGML v1.0//EN
CALSCALE:GREGORIAN
METHOD:PUBLISH
X-ORIGINAL-URL:https://rye2240.org
X-WR-CALDESC:Akce na Studium v zahraničí: Rotary Youth Exchange Czechia
REFRESH-INTERVAL;VALUE=DURATION:PT1H
X-Robots-Tag:noindex
X-PUBLISHED-TTL:PT1H
BEGIN:VTIMEZONE
TZID:Europe/Prague
BEGIN:DAYLIGHT
TZOFFSETFROM:+0100
TZOFFSETTO:+0200
TZNAME:CEST
DTSTART:20250330T010000
END:DAYLIGHT
BEGIN:STANDARD
TZOFFSETFROM:+0200
TZOFFSETTO:+0100
TZNAME:CET
DTSTART:20251026T010000
END:STANDARD
BEGIN:DAYLIGHT
TZOFFSETFROM:+0100
TZOFFSETTO:+0200
TZNAME:CEST
DTSTART:20260329T010000
END:DAYLIGHT
BEGIN:STANDARD
TZOFFSETFROM:+0200
TZOFFSETTO:+0100
TZNAME:CET
DTSTART:20261025T010000
END:STANDARD
BEGIN:DAYLIGHT
TZOFFSETFROM:+0100
TZOFFSETTO:+0200
TZNAME:CEST
DTSTART:20270328T010000
END:DAYLIGHT
BEGIN:STANDARD
TZOFFSETFROM:+0200
TZOFFSETTO:+0100
TZNAME:CET
DTSTART:20271031T010000
END:STANDARD
END:VTIMEZONE
BEGIN:VEVENT
DTSTART;TZID=Europe/Prague:20260919T090000
DTEND;TZID=Europe/Prague:20260919T170000
DTSTAMP:20260425T170936
CREATED:20260304T230809Z
LAST-MODIFIED:20260321T110238Z
UID:28261-1789808400-1789837200@rye2240.org
SUMMARY:RYE CZ - pracovní setkání klubových YEO I.
DESCRIPTION:r\n					\n						Akce je povinná pro všechny klubové YEO z klubů spolupracujících s RYE CZ\n						\n					\n				\n			\n			\n				\n				\n				\n				\n				\n				\n				\n				\n				\n				\n					R\n					\n						Akce je placená RYE CZ\n						\n					\n				\n			\n			\n				\n				\n				\n				\n			\n				\n				\n				\n				\n				\n				\n				\n				\n				\n				\n				\n					i\n					\n						Předběžný program\n						Informace o činnosti RYE CZ \nDlouhodobé výměny. \nKrátkodobé výměny. \nČasové harmonogramy jednotlivých programů. \nPráce s informačními systémy a weby.
URL:https://rye2240.org/akce/rye-cz-pracovni-setkani-klubovych-yeo-i/
LOCATION:Domov mládeže při Střední škole hotelové a služeb Kroměříž\, Pavlákova 3942/1\, Kroměříž\, 767 01\, Česká republika
CATEGORIES:Kluboví YEO,Kluboví YEO Česko,Kluboví YEO Slovensko
ATTACH;FMTTYPE=image/jpeg:https://rye2240.org/wp-content/uploads/2018/08/pracovni-setkani-yeo-d-2240.jpg
ORGANIZER;CN="Rotary Youth Exchange Czechia%2C z.%C3%BA. + ROTEX":MAILTO:org@rye2240.org
END:VEVENT
BEGIN:VEVENT
DTSTART;TZID=Europe/Prague:20261120T170000
DTEND;TZID=Europe/Prague:20261122T113000
DTSTAMP:20260425T170936
CREATED:20260320T224144Z
LAST-MODIFIED:20260321T110601Z
UID:28305-1795194000-1795347000@rye2240.org
SUMMARY:Orientation Meeting II. pro budoucí výměnné studenty - distriktní výběr
DESCRIPTION:r\n					\n						Akce je povinná pro všechny outboundy \n						\n					\n				\n			\n			\n				\n				\n				\n				\n				\n				\n				\n				\n				\n				\n					R\n					\n						Akce je placená Rotary\n						\n					\n				\n			\n			\n				\n				\n				\n				\n			\n				\n				\n				\n				\n				\n				\n				\n				\n				\n				\n				\n					i\n					\n						Předběžný program\n						Skupinové diskuse\, hry\, modelové situace\, zopakování pravidel výměnného pobytu\, pohovory s kandidáty ve výběrových komisích\, výběr studentů vhodných k vyslání do zahraničí\, prezentace bývalých výměnných studentů\, SKYPE  se současnými outboundy\, detailní proškolení kandidátů  ve vyplňování přihlášek\, instrukce ohledně dalšího postupu.
URL:https://rye2240.org/akce/orientation-meeting-ii-pro-budouci-vymenne-studenty-distriktni-vyber/
LOCATION:Domov mládeže při Střední škole hotelové a služeb Kroměříž\, Pavlákova 3942/1\, Kroměříž\, 767 01\, Česká republika
CATEGORIES:Kluboví YEO,Kluboví YEO Česko,Kluboví YEO Slovensko,Outboundi,Outboundi Česko,Outboundi Slovensko,Rotex
ATTACH;FMTTYPE=image/jpeg:https://rye2240.org/wp-content/uploads/2018/08/orientation-meeting-ii.-outboundi.jpg
ORGANIZER;CN="Rotary Youth Exchange Czechia%2C z.%C3%BA. + ROTEX":MAILTO:org@rye2240.org
END:VEVENT
END:VCALENDAR