BEGIN:VCALENDAR
VERSION:2.0
PRODID:-//Studium v zahraničí: Rotary Youth Exchange Czechia - ECPv6.15.17.1//NONSGML v1.0//EN
CALSCALE:GREGORIAN
METHOD:PUBLISH
X-WR-CALNAME:Studium v zahraničí: Rotary Youth Exchange Czechia
X-ORIGINAL-URL:https://rye2240.org
X-WR-CALDESC:Akce na Studium v zahraničí: Rotary Youth Exchange Czechia
REFRESH-INTERVAL;VALUE=DURATION:PT1H
X-Robots-Tag:noindex
X-PUBLISHED-TTL:PT1H
BEGIN:VTIMEZONE
TZID:Europe/Prague
BEGIN:DAYLIGHT
TZOFFSETFROM:+0100
TZOFFSETTO:+0200
TZNAME:CEST
DTSTART:20190331T010000
END:DAYLIGHT
BEGIN:STANDARD
TZOFFSETFROM:+0200
TZOFFSETTO:+0100
TZNAME:CET
DTSTART:20191027T010000
END:STANDARD
BEGIN:DAYLIGHT
TZOFFSETFROM:+0100
TZOFFSETTO:+0200
TZNAME:CEST
DTSTART:20200329T010000
END:DAYLIGHT
BEGIN:STANDARD
TZOFFSETFROM:+0200
TZOFFSETTO:+0100
TZNAME:CET
DTSTART:20201025T010000
END:STANDARD
BEGIN:DAYLIGHT
TZOFFSETFROM:+0100
TZOFFSETTO:+0200
TZNAME:CEST
DTSTART:20210328T010000
END:DAYLIGHT
BEGIN:STANDARD
TZOFFSETFROM:+0200
TZOFFSETTO:+0100
TZNAME:CET
DTSTART:20211031T010000
END:STANDARD
END:VTIMEZONE
BEGIN:VEVENT
DTSTART;TZID=Europe/Prague:20200118T093000
DTEND;TZID=Europe/Prague:20200118T170000
DTSTAMP:20260425T180517
CREATED:20180806T192937Z
LAST-MODIFIED:20190629T141258Z
UID:28332-1579339800-1579366800@rye2240.org
SUMMARY:Pracovné stretnutie klubových YEO Slovensko
DESCRIPTION:r\n					\n						Akce je povinná pro všechny YEO z Rotary klubů ze Slovenska zapojených do programu dlouhodobých výměn.\n						\n					\n				\n			\n			\n				\n				\n				\n				\n				\n				\n				\n				\n				\n				\n					R\n					\n						Akce je placená Rotary\n						\n					\n				\n			\n			\n				\n				\n				\n				\n			\n				\n				\n				\n				\n				\n				\n				\n				\n				\n				\n				\n					i\n					\n						Předběžný program\n						Odevzdávání přihlášek na dlouhodobé a krátkodobé pobyty. \nInformace o dalším postupu u outboundů a inboundů. \nKrátkodobé programy.
URL:https://rye2240.org/akce/pracovne-stretnutie-klubovych-yeo-slovensko/
LOCATION:Hotel Poprad\, Partizánska 677/17\, Poprad\, 058 01\, Slovensko
CATEGORIES:Kluboví YEO Slovensko
ATTACH;FMTTYPE=image/jpeg:https://rye2240.org/wp-content/uploads/2018/08/pracovne-stretnutie-yeo-poprad.jpg
ORGANIZER;CN="Distriktn%C3%AD v%C3%BDbor V%C3%BDm%C4%9Bny ml%C3%A1de%C5%BEe":MAILTO:org@rye2240.org
END:VEVENT
END:VCALENDAR