BEGIN:VCALENDAR
VERSION:2.0
PRODID:-//Studium v zahraničí: Rotary Youth Exchange Czechia - ECPv6.15.17.1//NONSGML v1.0//EN
CALSCALE:GREGORIAN
METHOD:PUBLISH
X-WR-CALNAME:Studium v zahraničí: Rotary Youth Exchange Czechia
X-ORIGINAL-URL:https://rye2240.org
X-WR-CALDESC:Akce na Studium v zahraničí: Rotary Youth Exchange Czechia
REFRESH-INTERVAL;VALUE=DURATION:PT1H
X-Robots-Tag:noindex
X-PUBLISHED-TTL:PT1H
BEGIN:VTIMEZONE
TZID:Europe/Prague
BEGIN:DAYLIGHT
TZOFFSETFROM:+0100
TZOFFSETTO:+0200
TZNAME:CEST
DTSTART:20250330T010000
END:DAYLIGHT
BEGIN:STANDARD
TZOFFSETFROM:+0200
TZOFFSETTO:+0100
TZNAME:CET
DTSTART:20251026T010000
END:STANDARD
BEGIN:DAYLIGHT
TZOFFSETFROM:+0100
TZOFFSETTO:+0200
TZNAME:CEST
DTSTART:20260329T010000
END:DAYLIGHT
BEGIN:STANDARD
TZOFFSETFROM:+0200
TZOFFSETTO:+0100
TZNAME:CET
DTSTART:20261025T010000
END:STANDARD
BEGIN:DAYLIGHT
TZOFFSETFROM:+0100
TZOFFSETTO:+0200
TZNAME:CEST
DTSTART:20270328T010000
END:DAYLIGHT
BEGIN:STANDARD
TZOFFSETFROM:+0200
TZOFFSETTO:+0100
TZNAME:CET
DTSTART:20271031T010000
END:STANDARD
END:VTIMEZONE
BEGIN:VEVENT
DTSTART;TZID=Europe/Prague:20261016T173000
DTEND;TZID=Europe/Prague:20261018T110000
DTSTAMP:20260425T034217
CREATED:20251105T154754Z
LAST-MODIFIED:20251111T133349Z
UID:28285-1792171800-1792321200@rye2240.org
SUMMARY:Rebound Meeting
DESCRIPTION:\n					\n						Akce je určená pro reboundy\, kteří se vrátili v červenci z výměny\, a pro rotexáky\n						\n					\n				\n			\n			\n				\n				\n				\n				\n				\n				\n				\n				\n				\n				\n					R\n					\n						Akce je placená Rotary\n						\n					\n				\n			\n			\n				\n				\n				\n				\n			\n				\n				\n				\n				\n				\n				\n				\n				\n				\n				\n				\n					i\n					\n						Předběžný program\n						Pátek – příjezd\, představení\, prezentace o pobytu v zahraničí. Sobota – Outdoorové aktivity\, akce Rotexu\, organizace roku\, hry.
URL:https://rye2240.org/akce/rebound-meeting/
LOCATION:Rekreační středisko DRAK Křižanov\, Křižanov u Velkého Meziříčí\, 594 51\, Česká republika
CATEGORIES:Outboundi,Outboundi Česko,Outboundi Slovensko,Rotex
ATTACH;FMTTYPE=image/jpeg:https://rye2240.org/wp-content/uploads/2018/08/rotex-rebound-meeting.jpg
ORGANIZER;CN="Rotary Youth Exchange Czechia%2C z.%C3%BA. + ROTEX":MAILTO:org@rye2240.org
END:VEVENT
END:VCALENDAR